BEGIN:VCALENDAR
VERSION:2.0
PRODID:-//Advanced Intellect//aspNetEmail Calendar Writer(v4.0.0.57)//EN
METHOD:POST
BEGIN:VTIMEZONE
LAST-MODIFIED:20260420T122941Z
TZID:Eastern Standard Time
BEGIN:STANDARD
DTSTART:16010101T030000
TZOFFSETFROM:-0400
TZOFFSETTO:-0500
TZNAME:EST
RRULE:FREQ=YEARLY;BYMONTH=11;BYDAY=1SU
END:STANDARD
BEGIN:DAYLIGHT
DTSTART:16010101T020000
TZOFFSETFROM:-0500
TZOFFSETTO:-0400
TZNAME:EDT
RRULE:FREQ=YEARLY;BYMONTH=3;BYDAY=2SU
END:DAYLIGHT
END:VTIMEZONE
BEGIN:VEVENT
DTSTART;TZID="Eastern Standard Time":20260502T180000
DTEND;TZID="Eastern Standard Time":20260502T200000
UID:38db5033-2dd1-445b-ac27-91dfbdf4ac37
CREATED:20260420T162941Z
DTSTAMP:20260420T162941Z
LAST-MODIFIED:20260420T162941Z
DESCRIPTION:Southern Regions Father/Daughter Dance\n
CLASS:PUBLIC
LOCATION:
PRIORITY:5
SUMMARY:2026 Southern Father/Daughter Dance
TRANSP:OPAQUE
SEQUENCE:0
ORGANIZER;CN="Joe Gattozzi":MAILTO:JoeG@BostonChurch.org
STATUS:NEEDS ACTION
BEGIN:VALARM
DESCRIPTION:2026 Southern Father/Daughter Dance
ACTION:DISPLAY
TRIGGER:-PT30M
END:VALARM
END:VEVENT
END:VCALENDAR