BEGIN:VCALENDAR
VERSION:2.0
PRODID:-//Advanced Intellect//aspNetEmail Calendar Writer(v4.0.0.57)//EN
METHOD:POST
BEGIN:VTIMEZONE
LAST-MODIFIED:20260420T122824Z
TZID:Eastern Standard Time
BEGIN:STANDARD
DTSTART:16010101T030000
TZOFFSETFROM:-0400
TZOFFSETTO:-0500
TZNAME:EST
RRULE:FREQ=YEARLY;BYMONTH=11;BYDAY=1SU
END:STANDARD
BEGIN:DAYLIGHT
DTSTART:16010101T020000
TZOFFSETFROM:-0500
TZOFFSETTO:-0400
TZNAME:EDT
RRULE:FREQ=YEARLY;BYMONTH=3;BYDAY=2SU
END:DAYLIGHT
END:VTIMEZONE
BEGIN:VEVENT
DTSTART;TZID="Eastern Standard Time":20260502T173000
DTEND;TZID="Eastern Standard Time":20260502T190000
UID:c8f9542a-a9e5-43b1-998d-dcd120e01b44
CREATED:20260420T162824Z
DTSTAMP:20260420T162824Z
LAST-MODIFIED:20260420T162824Z
DESCRIPTION:Seniors and Parents of Seniors\,\nWe hope you can join
  us for the Senior Banquet\, May 2nd at 5:30 PM - 7:00 PM at the
  Arlington Building (75 Pleasant Street\, Arlington MA) to celebrate
  all the hard work of parenting (if you're the parent) and getting
  through life and school if you are the student!!  Please register
  by Sunday\, April 26th at events.bostonchurch.org\n
CLASS:PUBLIC
LOCATION:
PRIORITY:5
SUMMARY:2026 Senior Dinner and Celebration
TRANSP:OPAQUE
SEQUENCE:0
ORGANIZER;CN="Kristen Lamb":MAILTO:kdlamb@gmail.com
STATUS:NEEDS ACTION
BEGIN:VALARM
DESCRIPTION:2026 Senior Dinner and Celebration
ACTION:DISPLAY
TRIGGER:-PT30M
END:VALARM
END:VEVENT
END:VCALENDAR